BEGIN:VCALENDAR
VERSION:2.0
PRODID:-//Amy Utsman - ECPv6.15.11//NONSGML v1.0//EN
CALSCALE:GREGORIAN
METHOD:PUBLISH
X-ORIGINAL-URL:https://amyutsman.com
X-WR-CALDESC:Events for Amy Utsman
REFRESH-INTERVAL;VALUE=DURATION:PT1H
X-Robots-Tag:noindex
X-PUBLISHED-TTL:PT1H
BEGIN:VTIMEZONE
TZID:America/New_York
BEGIN:DAYLIGHT
TZOFFSETFROM:-0500
TZOFFSETTO:-0400
TZNAME:EDT
DTSTART:20220313T070000
END:DAYLIGHT
BEGIN:STANDARD
TZOFFSETFROM:-0400
TZOFFSETTO:-0500
TZNAME:EST
DTSTART:20221106T060000
END:STANDARD
BEGIN:DAYLIGHT
TZOFFSETFROM:-0500
TZOFFSETTO:-0400
TZNAME:EDT
DTSTART:20230312T070000
END:DAYLIGHT
BEGIN:STANDARD
TZOFFSETFROM:-0400
TZOFFSETTO:-0500
TZNAME:EST
DTSTART:20231105T060000
END:STANDARD
BEGIN:DAYLIGHT
TZOFFSETFROM:-0500
TZOFFSETTO:-0400
TZNAME:EDT
DTSTART:20240310T070000
END:DAYLIGHT
BEGIN:STANDARD
TZOFFSETFROM:-0400
TZOFFSETTO:-0500
TZNAME:EST
DTSTART:20241103T060000
END:STANDARD
BEGIN:DAYLIGHT
TZOFFSETFROM:-0500
TZOFFSETTO:-0400
TZNAME:EDT
DTSTART:20250309T070000
END:DAYLIGHT
BEGIN:STANDARD
TZOFFSETFROM:-0400
TZOFFSETTO:-0500
TZNAME:EST
DTSTART:20251102T060000
END:STANDARD
BEGIN:DAYLIGHT
TZOFFSETFROM:-0500
TZOFFSETTO:-0400
TZNAME:EDT
DTSTART:20260308T070000
END:DAYLIGHT
BEGIN:STANDARD
TZOFFSETFROM:-0400
TZOFFSETTO:-0500
TZNAME:EST
DTSTART:20261101T060000
END:STANDARD
BEGIN:DAYLIGHT
TZOFFSETFROM:-0500
TZOFFSETTO:-0400
TZNAME:EDT
DTSTART:20270314T070000
END:DAYLIGHT
BEGIN:STANDARD
TZOFFSETFROM:-0400
TZOFFSETTO:-0500
TZNAME:EST
DTSTART:20271107T060000
END:STANDARD
END:VTIMEZONE
BEGIN:VEVENT
DTSTART;TZID=America/New_York:20260408T190000
DTEND;TZID=America/New_York:20260408T194500
DTSTAMP:20260423T172809
CREATED:20260124T143923Z
LAST-MODIFIED:20260406T185059Z
UID:10000183-1775674800-1775677500@amyutsman.com
SUMMARY:After Suicide\, Are They Okay? (Free webinar)
DESCRIPTION:If you’ve lost a loved one to suicide\, grief often comes with fear\, shame\, and unanswered questions. \nIn this live conversation\, Amy addresses what many people quietly wonder: Is my loved one okay now? Are they at peace? Can they still connect with us? The focus is on reassurance and understanding — not predictions\, pressure\, or belief. \nApril 8\, 7:00-7:45pm Eastern Time \nThe webinar is free\, registration required.  \nSAVE YOUR SEAT \nNotes: \n\nThe webinar is recorded and a replay link is sent to all who register.\nNo one will be on video except the presenters.
URL:https://amyutsman.com/event/is-my-loved-one-okay-after-suicide/
CATEGORIES:Free Events,Webinars
ATTACH;FMTTYPE=image/png:https://amyutsman.com/wp-content/uploads/2026/04/AU_After_Suicide_2.png
END:VEVENT
BEGIN:VEVENT
DTSTART;TZID=America/New_York:20260216T190000
DTEND;TZID=America/New_York:20260216T194500
DTSTAMP:20260423T172809
CREATED:20251208T203217Z
LAST-MODIFIED:20260211T194444Z
UID:10000181-1771268400-1771271100@amyutsman.com
SUMMARY:Wisdom from Children in Spirit (Rescheduled to Feb. 16 - Monday)
DESCRIPTION:Children who’ve crossed over often bring messages of love and insight. \nIn this free 45-minute webinar (not a reading)\, Amy Utsman shares what she’s learned from children in spirit — and what their words can teach us about life\, loss\, and healing. Includes live Q&A. \nBring your questions for the live Q&A! \nFree\, registration required. \nREGISTER NOW
URL:https://amyutsman.com/event/wisdom-from-children-in-spirit/
CATEGORIES:Free Events,Webinars
ATTACH;FMTTYPE=image/png:https://amyutsman.com/wp-content/uploads/2025/12/AU_Wisdom_From_Children_in_Spirit.png
END:VEVENT
BEGIN:VEVENT
DTSTART;TZID=America/New_York:20260114T190000
DTEND;TZID=America/New_York:20260114T194500
DTSTAMP:20260423T172809
CREATED:20251208T202900Z
LAST-MODIFIED:20260110T210454Z
UID:10000180-1768417200-1768419900@amyutsman.com
SUMMARY:Spirit Guides\, Explained!
DESCRIPTION:Ever wonder who’s helping and guiding you behind the scenes? \nJoin Amy Utsman for a free 45-minute live webinar to explore what Spirit Guides are\, how they help\, and how to connect with them. Includes live Q&A. \nBring your questions for the live Q&A! \nFree\, registration required. \nREGISTER NOW
URL:https://amyutsman.com/event/you-have-spirit-guides/
CATEGORIES:Free Events,Webinars
ATTACH;FMTTYPE=image/png:https://amyutsman.com/wp-content/uploads/2026/01/AU_Spirit_Guides_Explained.png
END:VEVENT
BEGIN:VEVENT
DTSTART;TZID=America/New_York:20250814T190000
DTEND;TZID=America/New_York:20250814T210000
DTSTAMP:20260423T172809
CREATED:20250709T153706Z
LAST-MODIFIED:20250723T161816Z
UID:10000177-1755198000-1755205200@amyutsman.com
SUMMARY:Evening of Spirit Communication — Raising Funds for Animals in Need!
DESCRIPTION:Join Amy Utsman in supporting the well-being of cats and dogs in need — with an Evening of Spirit Communication! One of our mediumship students\, Nancy Sikora\, has organized this fund-raiser for animals in her local area. \nShe’s a very active volunteer in a community that doesn’t have much money to support the dogs and cats that live on the streets and with families. \nThe entire organization is volunteer — so 100% of funds raised will go to the animals. Amy is delighted to support R.O.A.R. — the Roatan Operation Animal Rescue\, https://roarescue.org. \n  \nYOUR PARTICIPATION WILL DO SO MUCH!  \nYour $25 donation will help … \n\nGet emergency medical services for stray cats and dogs\nHelp low-income families spay/neuter their pets\, get medications and vaccines\nRaise public awareness about pet care\n\n  \nHOW TO PARTICIPATE: \nFirst\, make your $25 donation here: https://donorbox.org/roar2025spiritcomm \nThen\, later on\, R.O.A.R. will provide your email address to Amy and she will register you into the Zoom event. At that time\, you’ll get a confirmation email. Note: This will not happen until closer to the date of the event.  \n  \nWHAT HAPPENS IN THIS EVENT? \nIf you’ve been to one of Amy’s large-group mediumship readings before\, you’ll be familiar with this format. Amy will provide as many medium readings as spirit allows\, for up to 2 hours. It’s a time of beautiful messages and healing! \nIf you’ve never been to these events\, check out the recordings below to get an idea. These readings were for Helping Parents Heal\, but the format is about the same. \nSee Amy’s Group Readings: View Now \n  \nJOIN AMY AND HELP THE ANIMALS! \nRegister here: https://donorbox.org/roar2025spiritcomm
URL:https://amyutsman.com/event/evening-of-spirit-communication-raising-funds-for-animals-in-need/
CATEGORIES:Evening of Spirit Communication,Group Readings,Webinars
ATTACH;FMTTYPE=image/png:https://amyutsman.com/wp-content/uploads/2025/07/Evening-of-Spirit-Comm-Fund-Raiser.png
END:VEVENT
BEGIN:VEVENT
DTSTART;TZID=America/New_York:20250813T190000
DTEND;TZID=America/New_York:20250813T200000
DTSTAMP:20260423T172809
CREATED:20250509T172637Z
LAST-MODIFIED:20250801T191817Z
UID:10000176-1755111600-1755115200@amyutsman.com
SUMMARY:[FREE Webinar] How to Connect with Your Loved Ones in Spirit!
DESCRIPTION:When a loved one passes\, your relationship changes —but it doesn’t have to stop. Communication changes too … but that doesn’t have to stop\, either! \nGet lots of great tips about how to connect with your loved one from Amy Utsman! Join her live 45-minute webinar for information and Q&A. Free\, August 13\, 7pm Eastern Time. \nYou’ll learn: \n\nCan anyone connect to their loved ones? Do you have to have a special gift?\nHow do you open yourself to receive more communication?\nHow can you stop blocking communication?\n\nAs always\, Amy will share information and then take your questions.  \nFree\, Zoom\, registration required
URL:https://amyutsman.com/event/free-webinar-how-to-connect-with-your-loved-ones-in-spirit/
CATEGORIES:Free Events,Webinars
ATTACH;FMTTYPE=image/png:https://amyutsman.com/wp-content/uploads/2025/08/AU-Webinar-8-13-25.png
END:VEVENT
BEGIN:VEVENT
DTSTART;TZID=America/New_York:20250723T190000
DTEND;TZID=America/New_York:20250723T200000
DTSTAMP:20260423T172809
CREATED:20250509T172153Z
LAST-MODIFIED:20250509T172153Z
UID:10000175-1753297200-1753300800@amyutsman.com
SUMMARY:[FREE Webinar] Am I REALLY Getting Signs From My Loved Ones in Spirit?
DESCRIPTION:Do you wonder if you’re really truly getting signs from loved ones? Or could it be just your imagination? You’re not alone in wondering — this is the number 1 question we’re asked!  \nGet lots of great tips about signs from Amy Utsman live in this free 45-minute webinar for information and Q&A on July 23 at 7p EDT.  \nYou’ll learn: \n\nHow people in Spirit communicate through signs —so many ways!\nHow a sign feels different than imagination.\nWhy doubt can get in your way and prevent signs from reaching you!\n\nAs always\, Amy will share information and then take your questions.  \nFree\, Zoom\, registration required
URL:https://amyutsman.com/event/free-webinar-am-i-really-getting-signs-from-my-loved-ones-in-spirit/
CATEGORIES:Free Events,Webinars
ATTACH;FMTTYPE=image/png:https://amyutsman.com/wp-content/uploads/2025/05/AU-webinar-2025-3-16-9ratio-for-WP.png
END:VEVENT
BEGIN:VEVENT
DTSTART;TZID=America/New_York:20250611T200000
DTEND;TZID=America/New_York:20250611T210000
DTSTAMP:20260423T172809
CREATED:20250416T141147Z
LAST-MODIFIED:20250520T161955Z
UID:10000171-1749672000-1749675600@amyutsman.com
SUMMARY:[FREE Webinar] Let's Talk About ... VISIT DREAMS
DESCRIPTION:RESCHEDULED TO JUNE 11\, 2025 \nJoin Amy Utsman live in this 45-minute webinar as she discusses common misconceptions and explains what happens.  \nShe’ll address topics such as: \n\nCan our loved ones and guides visit us in our dream state?\nWhy don’t I get a Visit Dream from my loved ones— even though I keep asking for it?\nWhat does it mean about me if my dreams come true?\n\nFree\, 8pm Eastern Time. \nThis webinar is 45 minutes. As always\, Amy will share information and then take your questions.  \nFree\, Zoom\, registration required
URL:https://amyutsman.com/event/free-webinar-lets-talk-about-visit-dreams/
CATEGORIES:Free Events,Webinars
ATTACH;FMTTYPE=image/png:https://amyutsman.com/wp-content/uploads/2025/04/AU-webinar-2025-2-16-9ratio-for-WP.png
END:VEVENT
BEGIN:VEVENT
DTSTART;TZID=America/New_York:20250428T200000
DTEND;TZID=America/New_York:20250428T210000
DTSTAMP:20260423T172809
CREATED:20250415T184742Z
LAST-MODIFIED:20250415T184742Z
UID:10000170-1745870400-1745874000@amyutsman.com
SUMMARY:[FREE Webinar] What Happens with Our Relationships on the Other Side?
DESCRIPTION:Join Amy Utsman live in this 45-minute webinar as she discusses common misconceptions and explains what happens.  \nShe’ll address topics such as: \n\nHow do relationships change or stay the same after someone passes?\nIf a relationship was difficult when someone was alive\, will it still be hard after they die?\nDo people ever apologize from the Other Side?\nDo people on the Other Side get “stuck” being around people they don’t want to be around?\n\nFree\, 8pm Eastern Time. \nThis webinar is 45 minutes. As always\, Amy will share information and then take your questions.  \nFree\, Zoom\, registration required
URL:https://amyutsman.com/event/free-webinar-what-happens-with-our-relationships-on-the-other-side/
CATEGORIES:Free Events,Webinars
ATTACH;FMTTYPE=image/png:https://amyutsman.com/wp-content/uploads/2025/04/AU-webinar-4-28-25-16-9ratio-for-WP.png
END:VEVENT
BEGIN:VEVENT
DTSTART;TZID=America/New_York:20241204T200000
DTEND;TZID=America/New_York:20241204T213000
DTSTAMP:20260423T172809
CREATED:20240909T011029Z
LAST-MODIFIED:20250507T225040Z
UID:10000159-1733342400-1733347800@amyutsman.com
SUMMARY:FREE - Evening of Spirit Communication with Amy Utsman
DESCRIPTION:Many of us have loved ones in Spirit. In this free large-group reading\, Amy will hold a free demonstration of mediumship\, offering as many readings as Spirit allows.  \nPlease Note: \n\nAs this is a large-group event\, not everyone will get a reading. \nYou must join by computer or app (no dial-in on phone).\n\nFree\, registration required
URL:https://amyutsman.com/event/free-evening-of-spirit-communication-with-amy-utsman-2/
CATEGORIES:Free Events,Group Readings,Webinars
END:VEVENT
BEGIN:VEVENT
DTSTART;TZID=America/New_York:20240909T200000
DTEND;TZID=America/New_York:20240909T210000
DTSTAMP:20260423T172809
CREATED:20240906T204719Z
LAST-MODIFIED:20240906T204858Z
UID:10000156-1725912000-1725915600@amyutsman.com
SUMMARY:[FREE Webinar] Top Ten Things People in the Spirit World Want You to Know!
DESCRIPTION:In this free webinar\, Amy Utsman\, medium and psychic\, shares the most common questions she hears from her clients — and how people in the Spirit World most often answer! \nThis webinar is 45 minutes. As always\, Amy will share information and then take your questions.  \nFree\, Zoom\, registration required
URL:https://amyutsman.com/event/free-webinar-top-ten-things-people-in-the-spirit-world-want-you-to-know/
CATEGORIES:Free Events,Webinars
ATTACH;FMTTYPE=image/png:https://amyutsman.com/wp-content/uploads/2024/09/AU-webinar-Sep-9-16-9ratio-for-WP.png
END:VEVENT
BEGIN:VEVENT
DTSTART;TZID=America/New_York:20240905T190000
DTEND;TZID=America/New_York:20240905T200000
DTSTAMP:20260423T172809
CREATED:20240719T160239Z
LAST-MODIFIED:20240821T224637Z
UID:10000154-1725562800-1725566400@amyutsman.com
SUMMARY:[FREE Webinar] How to Strengthen Communication With Your Loved Ones in Spirit
DESCRIPTION:You may have heard mediums say that everyone can connect with their own loved ones. But do you know how? Communicating across the veil works differently than here in the physical world! \nGain valuable insights and tips you can use in this free webinar with Amy Utsman (Medium and Psychic) and Nancy Scheel (Intuitive Coach).  \nYou’ll also learn how the upcoming live 9-week course with Amy and Nancy\, Foundations for Mediumship\, can further help you make real\, meaningful intentional connections with your loved ones!  \nFree\, Zoom\, registration required
URL:https://amyutsman.com/event/how-to-strengthen-communication/
CATEGORIES:Free Events,Webinars
ATTACH;FMTTYPE=image/png:https://amyutsman.com/wp-content/uploads/2024/08/How-to-Strengthen-Comm-WP.png
END:VEVENT
BEGIN:VEVENT
DTSTART;TZID=America/New_York:20240821T200000
DTEND;TZID=America/New_York:20240821T210000
DTSTAMP:20260423T172809
CREATED:20240719T151503Z
LAST-MODIFIED:20240719T161757Z
UID:10000153-1724270400-1724274000@amyutsman.com
SUMMARY:[FREE Webinar] Imagination ... or a Real Sign?
DESCRIPTION:How do you know if you’re getting real signs from your loved ones on the Other Side … or if it’s just your imagination? If you’re confused … you’re not alone!  \nAcclaimed medium Amy Utsman will share great tips on how to tell the difference. Join her live in this 45-minute webinar for information and Q&A.  \nFree\, registration required
URL:https://amyutsman.com/event/imagination-or-a-real-sign-free-webinar/
CATEGORIES:Free Events,Webinars
ATTACH;FMTTYPE=image/png:https://amyutsman.com/wp-content/uploads/2024/07/AU-webinar-no-date-16-9-ratio-for-WP-3.png
END:VEVENT
BEGIN:VEVENT
DTSTART;TZID=America/New_York:20240326T190000
DTEND;TZID=America/New_York:20240326T194500
DTSTAMP:20260423T172809
CREATED:20240323T185907Z
LAST-MODIFIED:20240323T185907Z
UID:10000152-1711479600-1711482300@amyutsman.com
SUMMARY:Take Control of Your Inner Negative Voice! - FREE Webinar
DESCRIPTION:Are you struggling with low confidence or feeling stuck? Is your inner voice harsh and demeaning — instead of supportive and loving? \nIt doesn’t have to be that way! \nJoin our free webinar and find out: \n\nHow\, when and why you unknowingly created that voice\nWhy arguing with it never works\nWhat you can do to take back control\n\nYour webinar leaders are coach Nancy Scheel and Dr. Lynn Karjala\, psychologist\, author and trauma specialist.  \nFree\, registration required
URL:https://amyutsman.com/event/take-control-of-your-inner-negative-voice-free-webinar/
CATEGORIES:Free Events,Group Readings,Webinars
ATTACH;FMTTYPE=image/png:https://amyutsman.com/wp-content/uploads/2024/03/CCT-Promo-Free-Webinar-0326624-FB.png
END:VEVENT
BEGIN:VEVENT
DTSTART;TZID=America/New_York:20240228T200000
DTEND;TZID=America/New_York:20240228T213000
DTSTAMP:20260423T172809
CREATED:20240128T025445Z
LAST-MODIFIED:20240128T030211Z
UID:10000149-1709150400-1709155800@amyutsman.com
SUMMARY:FREE - Evening of Spirit Communication with Amy Utsman
DESCRIPTION:Many of us have loved ones in Spirit. In this free large-group reading\, Amy will hold a free demonstration of mediumship\, offering as many readings as Spirit allows.  \nPlease Note: \n\nAs this is a large-group event\, not everyone will get a reading. \nYou must join by computer or app (no dial-in on phone).\n\nFree\, registration required
URL:https://amyutsman.com/event/free-evening-of-spirit-communication-with-amy-utsman/
CATEGORIES:Free Events,Group Readings,Webinars
END:VEVENT
BEGIN:VEVENT
DTSTART;TZID=America/New_York:20240221T190000
DTEND;TZID=America/New_York:20240221T203000
DTSTAMP:20260423T172809
CREATED:20240206T202623Z
LAST-MODIFIED:20240206T202623Z
UID:10000150-1708542000-1708547400@amyutsman.com
SUMMARY:Three Ways to Improve Your Mediumship - FREE Class
DESCRIPTION:Whether you want to make mediumship connections for yourself or for others\, discover three ways to improve those connections in our free 90-minute workshop. You’ll get some great tips AND get the taste and vibe of WMA’s Evidential Mediumship Level 1 class! \nFirst\, Amy Utsman (medium) will do several demonstration (real) readings\, and share insights about how to deepen the connections. \nThen\, Sharon B. Jones (medium) will invite one or two brave audience members to do a brief reading of their own\, as she provides support and guidance. \nFinally\, Nancy Scheel (coach) will help you understand how the inner “Critical Voice” creates blocks that hold you back from practicing making connections. \nFree\, registration required
URL:https://amyutsman.com/event/three-ways-to-improve-your-mediumship-free-class/
CATEGORIES:Free Events,Group Readings,Webinars
ATTACH;FMTTYPE=image/png:https://amyutsman.com/wp-content/uploads/2024/02/FREE-Workshop-WMA-V2.png
END:VEVENT
BEGIN:VEVENT
DTSTART;TZID=America/New_York:20231211T200000
DTEND;TZID=America/New_York:20231211T213000
DTSTAMP:20260423T172809
CREATED:20230906T225005Z
LAST-MODIFIED:20230906T230655Z
UID:10000116-1702324800-1702330200@amyutsman.com
SUMMARY:FREE - Demonstration of Mediumship for the Holidays with Amy Utsman
DESCRIPTION:So often we miss our loved ones in Spirit even more around the holidays. Amy will hold a free demonstration of mediumship\, offering as many readings as Spirit allows.  \nPlease Note: \n\nAs this is a large-group event\, not everyone will get a reading. \nYou must join by computer or app (no dial-in on phone).\n\nFree\, registration required
URL:https://amyutsman.com/event/free-demonstration-of-mediumship-for-the-holidays-with-amy-utsman/
CATEGORIES:Free Events,Group Readings,Webinars
ATTACH;FMTTYPE=image/png:https://amyutsman.com/wp-content/uploads/2023/09/AU-Free-Large-Group-Reading-12-11.png
END:VEVENT
BEGIN:VEVENT
DTSTART;TZID=America/New_York:20231106T200000
DTEND;TZID=America/New_York:20231106T210000
DTSTAMP:20260423T172809
CREATED:20230906T232104Z
LAST-MODIFIED:20231102T154648Z
UID:10000131-1699300800-1699304400@amyutsman.com
SUMMARY:FREE - Why We Miss Signs Due to Miscommunications with Loved Ones in Spirit
DESCRIPTION:We all want signs from our Loved Ones in Spirit. Sometimes it seems we just aren’t getting any though! In this free webinar\, Amy will share how common miscommunications between us and our Loved Ones can cause us to miss their signs. And\, how we can open up to the possibilities of how they may send signs using THEIR particular abilities.  \nJoin Amy Utsman live in this free 45-minute webinar for information and Q&A. \n  \nFree\, Registration Required \nClick Here to Register \n \nAmy Utsman\, Medium and Psychic
URL:https://amyutsman.com/event/why-we-miss-signs-due-to-miscommunications-with-loved-ones-in-spirit-free-webinar/
CATEGORIES:Free Events,Webinars
ATTACH;FMTTYPE=image/png:https://amyutsman.com/wp-content/uploads/2023/03/Webinar-Tile-400p.png
END:VEVENT
BEGIN:VEVENT
DTSTART;TZID=America/New_York:20230807T190000
DTEND;TZID=America/New_York:20230807T210000
DTSTAMP:20260423T172809
CREATED:20230731T202445Z
LAST-MODIFIED:20230801T193415Z
UID:10000115-1691434800-1691442000@amyutsman.com
SUMMARY:FREE - Mediumship Readings With a Special Demonstration -  Amy Utsman
DESCRIPTION:This special event is a demonstration of mediumship AND an opportunity to learn about how Spirit Communication works!  \nAmy will “slow down” or “break down” the first part of several readings and show you what is occurring during this mediumship communication (clairsentience\, clairvoyance\, clairaudience and claircognizance).  \nShe’ll then complete each reading as it is usually done so that the full messages are relayed. She’ll also do as many additional readings as Spirit allows.  \nWe’ll follow up with Q&A and information about the “Foundations for Mediumship” class starting Aug 17\, with Amy as lead teacher.  \nPlease Note: \n\nAs this is a large-group event\, not everyone will get a reading. \nYou must join by computer or app (no dial-in on phone).\n\nFree\, registration required
URL:https://amyutsman.com/event/free-mediumship-readings-with-a-special-demonstration-amy-utsman/
CATEGORIES:Free Events,Group Readings,Webinars,Whole Medium Academy
END:VEVENT
BEGIN:VEVENT
DTSTART;TZID=America/New_York:20230417T200000
DTEND;TZID=America/New_York:20230417T210000
DTSTAMP:20260423T172809
CREATED:20230315T164936Z
LAST-MODIFIED:20230326T143625Z
UID:10000006-1681761600-1681765200@amyutsman.com
SUMMARY:Pre-Natal Souls in Spirit: When a Pregnancy Does Not Come to Term (Free Webinar)
DESCRIPTION:Many people have questions about miscarriages\, abortions and stillborn infants. \nYou may wonder: Can you communicate with these souls in Spirit? Do they visit in dreams? Do they grow their chronological age in the Spirit World? \nThese are important questions\, and we don’t have to be afraid to talk about them. \nJoin Amy Utsman live in this 45-minute webinar for information and Q&A. \n  \nFree\, Registration Required \nClick Here to Register \n \nAmy Utsman\, Medium and Psychic
URL:https://amyutsman.com/event/pre-natal-souls-in-spirit-when-a-pregnancy-does-not-come-to-term/
CATEGORIES:Free Events,Webinars
ATTACH;FMTTYPE=image/png:https://amyutsman.com/wp-content/uploads/2023/03/Webinar-Tile-400p.png
END:VEVENT
BEGIN:VEVENT
DTSTART;TZID=America/New_York:20230320T200000
DTEND;TZID=America/New_York:20230320T210000
DTSTAMP:20260423T172809
CREATED:20230315T164133Z
LAST-MODIFIED:20230320T172248Z
UID:10000005-1679342400-1679346000@amyutsman.com
SUMMARY:Views From the Other Side: How Do Our Loved Ones Assist Us?
DESCRIPTION:[vc_row][vc_column][vc_column_text]Our loved ones can and do assist us. Amy Utsman will share stories from readings to show the many ways our loved ones can help us. \nJoin her live in this 45-minute webinar for information and Q&A.  \nFree\, Registration Required.[/vc_column_text][/vc_column][/vc_row][vc_row][vc_column][ult_buttons btn_title=”Register” btn_size=”ubtn-large” btn_title_color=”#ffffff” btn_bg_color=”#1c6573″ icon_size=”32″ btn_icon_pos=”ubtn-sep-icon-at-left”][/vc_column][/vc_row]
URL:https://amyutsman.com/event/views-from-the-other-side-how-do-our-loved-ones-assist-us/
CATEGORIES:Webinars
END:VEVENT
END:VCALENDAR